BEGIN:VCALENDAR
VERSION:2.0
PRODID:-//CITC - ECPv6.6.4.2//NONSGML v1.0//EN
CALSCALE:GREGORIAN
METHOD:PUBLISH
X-WR-CALNAME:CITC
X-ORIGINAL-URL:https://canadaindiatech.com
X-WR-CALDESC:Events for CITC
REFRESH-INTERVAL;VALUE=DURATION:PT1H
X-Robots-Tag:noindex
X-PUBLISHED-TTL:PT1H
BEGIN:VTIMEZONE
TZID:America/Toronto
BEGIN:DAYLIGHT
TZOFFSETFROM:-0500
TZOFFSETTO:-0400
TZNAME:EDT
DTSTART:20240310T070000
END:DAYLIGHT
BEGIN:STANDARD
TZOFFSETFROM:-0400
TZOFFSETTO:-0500
TZNAME:EST
DTSTART:20241103T060000
END:STANDARD
TZID:UTC
BEGIN:STANDARD
TZOFFSETFROM:+0000
TZOFFSETTO:+0000
TZNAME:UTC
DTSTART:20240101T000000
END:STANDARD
END:VTIMEZONE
BEGIN:VEVENT
DTSTART;TZID=America/Toronto:20240829T170000
DTEND;TZID=America/Toronto:20240829T183000
DTSTAMP:20260421T001558
CREATED:20240823T122817Z
LAST-MODIFIED:20240823T124552Z
UID:1733-1724950800-1724956200@canadaindiatech.com
SUMMARY:AITC-CITC Member Exchange (Members only)
DESCRIPTION:
URL:https://canadaindiatech.com/event/aitc-citc-member-exchange-members-onlyvirtual/
LOCATION:Virtual
CATEGORIES:Event List,Events,Events Grid
ATTACH;FMTTYPE=image/jpeg:https://canadaindiatech.com/wp-content/uploads/2024/08/IMG-20240417-WA0003.jpg
END:VEVENT
BEGIN:VEVENT
DTSTART;TZID=UTC:20240927T173000
DTEND;TZID=UTC:20240927T233000
DTSTAMP:20260421T001558
CREATED:20240823T125047Z
LAST-MODIFIED:20240823T125304Z
UID:1737-1727458200-1727479800@canadaindiatech.com
SUMMARY:CITC Annual Awards 2024
DESCRIPTION:
URL:https://canadaindiatech.com/event/citc-annual-awards-2024/
LOCATION:200 BLOOR STREET E\, TORONTO\, ON\, CA
CATEGORIES:Event List,Events,Events Grid
ATTACH;FMTTYPE=image/png:https://canadaindiatech.com/wp-content/uploads/2024/08/CITC-Annual-Awards-2024.png
END:VEVENT
BEGIN:VEVENT
DTSTART;TZID=UTC:20251003T173000
DTEND;TZID=UTC:20251003T233000
DTSTAMP:20260421T001558
CREATED:20250918T171338Z
LAST-MODIFIED:20250918T175443Z
UID:1754-1759512600-1759534200@canadaindiatech.com
SUMMARY:CITC Annual Awards 2025
DESCRIPTION:
URL:https://canadaindiatech.com/event/citc-annual-awards-2025/
LOCATION:Telus Harbour\, 25 York St\, 3rd floor\, Toronto\, Ontario\, Canada
CATEGORIES:Event List,Events,Events Grid
ATTACH;FMTTYPE=image/png:https://canadaindiatech.com/wp-content/uploads/2025/09/CITC-Annual-Awards-Flyer.png
END:VEVENT
END:VCALENDAR